BEGIN:VCALENDAR
VERSION:2.0
PRODID:-//MCC Röhrenbach Reisersberg - ECPv6.15.20//NONSGML v1.0//EN
CALSCALE:GREGORIAN
METHOD:PUBLISH
X-ORIGINAL-URL:https://mcc-reisersberg.de
X-WR-CALDESC:Veranstaltungen für MCC Röhrenbach Reisersberg
REFRESH-INTERVAL;VALUE=DURATION:PT1H
X-Robots-Tag:noindex
X-PUBLISHED-TTL:PT1H
BEGIN:VTIMEZONE
TZID:Europe/Berlin
BEGIN:DAYLIGHT
TZOFFSETFROM:+0100
TZOFFSETTO:+0200
TZNAME:CEST
DTSTART:20250330T010000
END:DAYLIGHT
BEGIN:STANDARD
TZOFFSETFROM:+0200
TZOFFSETTO:+0100
TZNAME:CET
DTSTART:20251026T010000
END:STANDARD
BEGIN:DAYLIGHT
TZOFFSETFROM:+0100
TZOFFSETTO:+0200
TZNAME:CEST
DTSTART:20260329T010000
END:DAYLIGHT
BEGIN:STANDARD
TZOFFSETFROM:+0200
TZOFFSETTO:+0100
TZNAME:CET
DTSTART:20261025T010000
END:STANDARD
BEGIN:DAYLIGHT
TZOFFSETFROM:+0100
TZOFFSETTO:+0200
TZNAME:CEST
DTSTART:20270328T010000
END:DAYLIGHT
BEGIN:STANDARD
TZOFFSETFROM:+0200
TZOFFSETTO:+0100
TZNAME:CET
DTSTART:20271031T010000
END:STANDARD
END:VTIMEZONE
BEGIN:VEVENT
DTSTART;TZID=Europe/Berlin:20260502T093000
DTEND;TZID=Europe/Berlin:20260503T173000
DTSTAMP:20260421T163533
CREATED:20260413T102302Z
LAST-MODIFIED:20260419T120236Z
UID:747-1777714200-1777829400@mcc-reisersberg.de
SUMMARY:Cross Country Trainingswochenende 
DESCRIPTION:Cross Country Trainingswochenende \n2 Tage freies fahren\, mehr dazu in der Ausschreibung\nAusschreibung unter Downloads
URL:https://mcc-reisersberg.de/termine/747/
CATEGORIES:Cross Country
ATTACH;FMTTYPE=image/jpeg:https://mcc-reisersberg.de/wp-content/uploads/2026/04/cross-Country.jpg
END:VEVENT
BEGIN:VEVENT
DTSTART;TZID=Europe/Berlin:20260509T080000
DTEND;TZID=Europe/Berlin:20260509T170000
DTSTAMP:20260421T163533
CREATED:20260413T102927Z
LAST-MODIFIED:20260414T201319Z
UID:758-1778313600-1778346000@mcc-reisersberg.de
SUMMARY:Freies Training
DESCRIPTION:Freies Training\nfür Motocross\, KIndercross\, Enduro\, Hardenduro\, Trial. Änderungen vorbehalten.
URL:https://mcc-reisersberg.de/termine/freies-training/
CATEGORIES:Freies Training
ATTACH;FMTTYPE=image/jpeg:https://mcc-reisersberg.de/wp-content/uploads/2026/04/IMG_1076-1.jpg
END:VEVENT
BEGIN:VEVENT
DTSTART;TZID=Europe/Berlin:20260516T080000
DTEND;TZID=Europe/Berlin:20260517T170000
DTSTAMP:20260421T163533
CREATED:20260413T121545Z
LAST-MODIFIED:20260415T161059Z
UID:765-1778918400-1779037200@mcc-reisersberg.de
SUMMARY:Trial Alpenpokal
DESCRIPTION:TRIAL Alpenpokal im Hexenkessel – hier zählen Balance\, Präzision und volle Kontrolle im Gelände.
URL:https://mcc-reisersberg.de/termine/freies-training-3/
CATEGORIES:Veranstaltung
ATTACH;FMTTYPE=image/jpeg:https://mcc-reisersberg.de/wp-content/uploads/2026/04/alpenpokal.jpg
END:VEVENT
BEGIN:VEVENT
DTSTART;TZID=Europe/Berlin:20260523T093000
DTEND;TZID=Europe/Berlin:20260523T173000
DTSTAMP:20260421T163533
CREATED:20260413T121617Z
LAST-MODIFIED:20260414T201335Z
UID:767-1779528600-1779557400@mcc-reisersberg.de
SUMMARY:Freies Training
DESCRIPTION:Freies Training\nfür Motocross\, KIndercross\, Enduro\, Hardenduro\, Trial. Änderungen vorbehalten.
URL:https://mcc-reisersberg.de/termine/freies-training-4/
CATEGORIES:Freies Training
ATTACH;FMTTYPE=image/jpeg:https://mcc-reisersberg.de/wp-content/uploads/2026/04/IMG_1338.jpg
END:VEVENT
BEGIN:VEVENT
DTSTART;TZID=Europe/Berlin:20260530T093000
DTEND;TZID=Europe/Berlin:20260531T173000
DTSTAMP:20260421T163533
CREATED:20260413T121647Z
LAST-MODIFIED:20260419T120214Z
UID:769-1780133400-1780248600@mcc-reisersberg.de
SUMMARY:Cross Country Trainingswochenende 
DESCRIPTION:Cross Country Trainingswochenende \n2 Tage freies fahren\, mehr dazu in der Ausschreibung\nAusschreibung unter Downloads
URL:https://mcc-reisersberg.de/termine/freies-training-5/
CATEGORIES:Cross Country
ATTACH;FMTTYPE=image/jpeg:https://mcc-reisersberg.de/wp-content/uploads/2026/04/cross-Country.jpg
END:VEVENT
END:VCALENDAR