BEGIN:VCALENDAR
VERSION:2.0
PRODID:-//MCC Röhrenbach Reisersberg - ECPv6.15.20//NONSGML v1.0//EN
CALSCALE:GREGORIAN
METHOD:PUBLISH
X-ORIGINAL-URL:https://mcc-reisersberg.de
X-WR-CALDESC:Veranstaltungen für MCC Röhrenbach Reisersberg
REFRESH-INTERVAL;VALUE=DURATION:PT1H
X-Robots-Tag:noindex
X-PUBLISHED-TTL:PT1H
BEGIN:VTIMEZONE
TZID:Europe/Berlin
BEGIN:DAYLIGHT
TZOFFSETFROM:+0100
TZOFFSETTO:+0200
TZNAME:CEST
DTSTART:20250330T010000
END:DAYLIGHT
BEGIN:STANDARD
TZOFFSETFROM:+0200
TZOFFSETTO:+0100
TZNAME:CET
DTSTART:20251026T010000
END:STANDARD
BEGIN:DAYLIGHT
TZOFFSETFROM:+0100
TZOFFSETTO:+0200
TZNAME:CEST
DTSTART:20260329T010000
END:DAYLIGHT
BEGIN:STANDARD
TZOFFSETFROM:+0200
TZOFFSETTO:+0100
TZNAME:CET
DTSTART:20261025T010000
END:STANDARD
BEGIN:DAYLIGHT
TZOFFSETFROM:+0100
TZOFFSETTO:+0200
TZNAME:CEST
DTSTART:20270328T010000
END:DAYLIGHT
BEGIN:STANDARD
TZOFFSETFROM:+0200
TZOFFSETTO:+0100
TZNAME:CET
DTSTART:20271031T010000
END:STANDARD
END:VTIMEZONE
BEGIN:VEVENT
DTSTART;TZID=Europe/Berlin:20260704T093000
DTEND;TZID=Europe/Berlin:20260704T173000
DTSTAMP:20260421T192515
CREATED:20260413T122100Z
LAST-MODIFIED:20260414T202039Z
UID:779-1783157400-1783186200@mcc-reisersberg.de
SUMMARY:Freies Training
DESCRIPTION:Freies Training\nfür Motocross\, KIndercross\, Enduro\, Hardenduro\, Trial. Änderungen vorbehalten.
URL:https://mcc-reisersberg.de/termine/freies-training-8/
CATEGORIES:Freies Training
ATTACH;FMTTYPE=image/jpeg:https://mcc-reisersberg.de/wp-content/uploads/2026/04/IMG_2245.jpg
END:VEVENT
BEGIN:VEVENT
DTSTART;TZID=Europe/Berlin:20260711T093000
DTEND;TZID=Europe/Berlin:20260711T173000
DTSTAMP:20260421T192515
CREATED:20260413T124338Z
LAST-MODIFIED:20260414T202056Z
UID:793-1783762200-1783791000@mcc-reisersberg.de
SUMMARY:Freies Training
DESCRIPTION:Freies Training\nfür Motocross\, KIndercross\, Enduro\, Hardenduro\, Trial. Änderungen vorbehalten.
URL:https://mcc-reisersberg.de/termine/793/
CATEGORIES:Freies Training
ATTACH;FMTTYPE=image/jpeg:https://mcc-reisersberg.de/wp-content/uploads/2026/04/IMG_3563.jpg
END:VEVENT
BEGIN:VEVENT
DTSTART;TZID=Europe/Berlin:20260718T093000
DTEND;TZID=Europe/Berlin:20260719T173000
DTSTAMP:20260421T192515
CREATED:20260413T124429Z
LAST-MODIFIED:20260419T120145Z
UID:796-1784367000-1784482200@mcc-reisersberg.de
SUMMARY:Cross Country Trainingswochenende 
DESCRIPTION:Cross Country Trainingswochenende \n2 Tage freies fahren\, mehr dazu in der Ausschreibung\nAusschreibung unter Downloads
URL:https://mcc-reisersberg.de/termine/freies-training-10/
CATEGORIES:Cross Country
ATTACH;FMTTYPE=image/jpeg:https://mcc-reisersberg.de/wp-content/uploads/2026/04/cross-Country.jpg
ORGANIZER;CN="MCC Reisersberg-R%C3%B6hrenbach":MAILTO:info@mcc-reisersbach.de
END:VEVENT
BEGIN:VEVENT
DTSTART;TZID=Europe/Berlin:20260725T093000
DTEND;TZID=Europe/Berlin:20260725T173000
DTSTAMP:20260421T192515
CREATED:20260413T124509Z
LAST-MODIFIED:20260414T100641Z
UID:798-1784971800-1785000600@mcc-reisersberg.de
SUMMARY:Freies Training
DESCRIPTION:Freies Training\nfür Motocross\, KIndercross\, Enduro\, Hardenduro\, Trial. Änderungen vorbehalten.
URL:https://mcc-reisersberg.de/termine/freies-training-11/
CATEGORIES:Freies Training
ATTACH;FMTTYPE=image/jpeg:https://mcc-reisersberg.de/wp-content/uploads/2026/04/IMG_3391.jpg
END:VEVENT
END:VCALENDAR